BEGIN:VCALENDAR
VERSION:2.0
PRODID:-//スタジオARUGA-在我- - ECPv6.8.0//NONSGML v1.0//EN
CALSCALE:GREGORIAN
METHOD:PUBLISH
X-ORIGINAL-URL:https://arugayoga.com
X-WR-CALDESC:スタジオARUGA-在我- のイベント
REFRESH-INTERVAL;VALUE=DURATION:PT1H
X-Robots-Tag:noindex
X-PUBLISHED-TTL:PT1H
BEGIN:VTIMEZONE
TZID:Asia/Tokyo
BEGIN:STANDARD
TZOFFSETFROM:+0900
TZOFFSETTO:+0900
TZNAME:JST
DTSTART:20260101T000000
END:STANDARD
END:VTIMEZONE
BEGIN:VEVENT
DTSTART;TZID=Asia/Tokyo:20260409T201500
DTEND;TZID=Asia/Tokyo:20260409T211500
DTSTAMP:20260422T002819
CREATED:20240826T164942Z
LAST-MODIFIED:20260328T035443Z
UID:1188-1775765700-1775769300@arugayoga.com
SUMMARY:yogaサイレント(運動量少なめ)
DESCRIPTION:運動量★／ヨガポーズ難易度◆\n簡単なハタヨガのポーズをホールドしながら 一つひとつの姿勢は「ありのまま感じている」だけの状態で心の静寂を生み出します／レッスン中に坐法瞑想を行う場合がございます \n\n月会費10\,670円(ヨガ・ボディワーククラスは無制限)\n4回チケット：9\,900円(1ヶ月有効/ヨガ・ボディワーククラスは無制限)\nドロップイン(1回利用)：3\,300円\nお支払いは現金・クレジットカード \nお申込み
URL:https://arugayoga.com/event/silent-9/
LOCATION:studioARUGA\, 伊那市西箕輪5058
CATEGORIES:yogaサイレント
ATTACH;FMTTYPE=image/png:https://arugayoga.com/wp-content/uploads/2024/07/ARUGA-eventphoto.png
END:VEVENT
BEGIN:VEVENT
DTSTART;TZID=Asia/Tokyo:20260411T091500
DTEND;TZID=Asia/Tokyo:20260411T101500
DTSTAMP:20260422T002819
CREATED:20240507T044518Z
LAST-MODIFIED:20260328T041157Z
UID:719-1775898900-1775902500@arugayoga.com
SUMMARY:バーニングモビリティ
DESCRIPTION:運動量★★★／難易度◆◆\n「動ける体」の土台づくりができる シンプルな有酸素的ボディワーク／関節可動域(モビリティ)を高めながら脂肪燃焼も叶えます／膝への負担が気になる方、体力に自信のない方や下半身の冷え・硬さが気になる方、激しい運動は苦手だけど体を動かしたい方におすすめのクラス \n\n月会費：10\,670円(ヨガ・ボディワーククラスは無制限)\n4回チケット：9\,900円(1ヶ月有効/ヨガ・ボディワーククラスは無制限)\nドロップイン(1回利用)：3\,300円／1クラス\nお支払いは現金・クレジットカード \nお申込
URL:https://arugayoga.com/event/flexible6-30/
LOCATION:studioARUGA\, 伊那市西箕輪5058
CATEGORIES:バーニングモビリティ
ATTACH;FMTTYPE=image/png:https://arugayoga.com/wp-content/uploads/2024/07/burning-mobility7.png
END:VEVENT
BEGIN:VEVENT
DTSTART;TZID=Asia/Tokyo:20260411T103000
DTEND;TZID=Asia/Tokyo:20260411T111500
DTSTAMP:20260422T002819
CREATED:20260130T163208Z
LAST-MODIFIED:20260328T042205Z
UID:2258-1775903400-1775906100@arugayoga.com
SUMMARY:マイ・ソールセラピー
DESCRIPTION:カラダに軽さや巡りを起こす時間を\nまずは足湯で足を温めて、ご自身でオイルを使って足裏や下肢を優しくケア(足湯・オイル付) \n＜持ち物＞\nバスタオル \n\n月会費10\,670円(ヨガ・ボディワーククラスは無制限)\n4回チケット：9\,900円(1ヶ月有効/ヨガ・ボディワーククラスは無制限)\nドロップイン(1回利用)：3\,300円\nお支払いは現金・クレジットカード \nお申込み
URL:https://arugayoga.com/event/sole-therapy/
LOCATION:studioARUGA\, 伊那市西箕輪5058
CATEGORIES:マイ・ソールセラピー
ATTACH;FMTTYPE=image/png:https://arugayoga.com/wp-content/uploads/2026/01/soul-therapy2.png
END:VEVENT
BEGIN:VEVENT
DTSTART;TZID=Asia/Tokyo:20260412T091500
DTEND;TZID=Asia/Tokyo:20260412T101500
DTSTAMP:20260422T002819
CREATED:20240506T140532Z
LAST-MODIFIED:20260328T041655Z
UID:671-1775985300-1775988900@arugayoga.com
SUMMARY:パワーyoga(運動量を増やす)
DESCRIPTION:運動量★★★／ヨガポーズ難易度◆◆\n運動量を増やして 練習後の爽快感を深めます／色々なポーズに出会えます／他のエクササイズでは得られない 心が穏やかで冴え渡る体験を楽しみながら、体力・持久力のある身体にしていきます \n\n月会費：10\,670円(ヨガ・ボディワーククラスは無制限)\n4回チケット：9\,900円(1ヶ月有効/ヨガ・ボディワーククラスは無制限)\nドロップイン(1回利用)：3\,300円／1クラス\nお支払いは現金・クレジットカード \nお申込み
URL:https://arugayoga.com/event/pose6-25/
LOCATION:studioARUGA\, 伊那市西箕輪5058
CATEGORIES:パワーyoga
ATTACH;FMTTYPE=image/png:https://arugayoga.com/wp-content/uploads/2024/04/ARUGA-schedule2.png
END:VEVENT
BEGIN:VEVENT
DTSTART;TZID=Asia/Tokyo:20260412T102500
DTEND;TZID=Asia/Tokyo:20260412T112500
DTSTAMP:20260422T002819
CREATED:20240604T215428Z
LAST-MODIFIED:20260328T035608Z
UID:829-1775989500-1775993100@arugayoga.com
SUMMARY:yogaサイレント(運動量少なめ)
DESCRIPTION:運動量★／ヨガポーズ難易度◆\n簡単なハタヨガのポーズをホールドしながら 一つひとつの姿勢は「ありのまま感じている」だけの状態で心の静寂を生み出します／レッスン中に坐法瞑想を行う場合がございます \n\n月会費10\,670円(ヨガ・ボディワーククラスは無制限)\n4回チケット：9\,900円(1ヶ月有効/ヨガ・ボディワーククラスは無制限)\nドロップイン(1回利用)：3\,300円／1クラス\nお支払いは現金・クレジットカード \nお申込み
URL:https://arugayoga.com/event/silent-4/
LOCATION:studioARUGA\, 伊那市西箕輪5058
CATEGORIES:yogaサイレント
ATTACH;FMTTYPE=image/png:https://arugayoga.com/wp-content/uploads/2024/07/ARUGA-eventphoto.png
END:VEVENT
BEGIN:VEVENT
DTSTART;TZID=Asia/Tokyo:20260418T091500
DTEND;TZID=Asia/Tokyo:20260418T101500
DTSTAMP:20260422T002819
CREATED:20240506T140233Z
LAST-MODIFIED:20260328T041902Z
UID:669-1776503700-1776507300@arugayoga.com
SUMMARY:パワーyoga(運動量を増やす)
DESCRIPTION:運動量★★★／ヨガポーズ難易度◆◆\n運動量を増やして 練習後の爽快感を深めます／色々なポーズに出会えます／他のエクササイズでは得られない 心が穏やかで冴え渡る体験を楽しみながら、体力・持久力のある身体にしていきます \n\n月会費：10\,670円(ヨガ・ボディワーククラスは無制限)\n4回チケット：9\,900円(1ヶ月有効/ヨガ・ボディワーククラスは無制限)\nドロップイン(1回利用)：3\,300円／1クラス\nお支払いは現金・クレジットカード \nお申込み
URL:https://arugayoga.com/event/pose6-23/
LOCATION:studioARUGA\, 伊那市西箕輪5058
CATEGORIES:パワーyoga
ATTACH;FMTTYPE=image/png:https://arugayoga.com/wp-content/uploads/2024/04/ARUGA-schedule2.png
END:VEVENT
BEGIN:VEVENT
DTSTART;TZID=Asia/Tokyo:20260418T102500
DTEND;TZID=Asia/Tokyo:20260418T112500
DTSTAMP:20260422T002819
CREATED:20240604T223401Z
LAST-MODIFIED:20260328T035709Z
UID:857-1776507900-1776511500@arugayoga.com
SUMMARY:yogaサイレント(運動量少なめ)
DESCRIPTION:運動量★／ヨガポーズ難易度◆\n簡単なハタヨガのポーズをホールドしながら 一つひとつの姿勢は「ありのまま感じている」だけの状態で心の静寂を生み出します／レッスン中に坐法瞑想を行う場合がございます \n\n月会費10\,670円(ヨガ・ボディワーククラスは無制限)\n4回チケット：9\,900円(1ヶ月有効/ヨガ・ボディワーククラスは無制限)\nドロップイン(1回利用)：3\,300円／1クラス\nお支払いは現金・クレジットカード \nお申込み
URL:https://arugayoga.com/event/silent-8/
LOCATION:studioARUGA\, 伊那市西箕輪5058
CATEGORIES:yogaサイレント
ATTACH;FMTTYPE=image/png:https://arugayoga.com/wp-content/uploads/2024/07/ARUGA-eventphoto.png
END:VEVENT
BEGIN:VEVENT
DTSTART;TZID=Asia/Tokyo:20260419T091500
DTEND;TZID=Asia/Tokyo:20260419T101500
DTSTAMP:20260422T002819
CREATED:20240507T044208Z
LAST-MODIFIED:20260328T041303Z
UID:717-1776590100-1776593700@arugayoga.com
SUMMARY:バーニングモビリティ
DESCRIPTION:運動量★★★／難易度◆◆\n「動ける体」の土台づくりができる シンプルな有酸素的ボディワーク／関節可動域(モビリティ)を高めながら脂肪燃焼も叶えます／膝への負担が気になる方、体力に自信のない方や下半身の冷え・硬さが気になる方、激しい運動は苦手だけど体を動かしたい方におすすめのクラス \n\n月会費：10\,670円(ヨガ・ボディワーククラスは無制限)\n4回チケット：9\,900円(1ヶ月有効/ヨガ・ボディワーククラスは無制限)\nドロップイン(1回利用)：3\,300円／1クラス\nお支払いは現金・クレジットカード \nお申込み
URL:https://arugayoga.com/event/flexible6-23/
LOCATION:studioARUGA\, 伊那市西箕輪5058
CATEGORIES:バーニングモビリティ
ATTACH;FMTTYPE=image/png:https://arugayoga.com/wp-content/uploads/2024/07/burning-mobility7.png
END:VEVENT
BEGIN:VEVENT
DTSTART;TZID=Asia/Tokyo:20260419T102500
DTEND;TZID=Asia/Tokyo:20260419T112500
DTSTAMP:20260422T002819
CREATED:20240506T085740Z
LAST-MODIFIED:20260328T040924Z
UID:631-1776594300-1776597900@arugayoga.com
SUMMARY:スローフローyoga(基本のポーズ)
DESCRIPTION:運動量★★／ヨガポーズ難易度◆\nヨガの基本的なポーズを丁寧に行いながら、体の動きを整えていくクラスです／ポーズを急がず、一つひとつ丁寧に整えながら練習していきます \n\n月会費10\,670円(ヨガ・ボディワーククラスは無制限)\n4回チケット：9\,900円(1ヶ月有効/ヨガ・ボディワーククラスは無制限)\nドロップイン(1回利用)：3\,300円\nお支払いは現金・クレジットカード \nお申込み
URL:https://arugayoga.com/event/forward-bend6-10/
LOCATION:studioARUGA\, 伊那市西箕輪5058
CATEGORIES:スローフローyoga
ATTACH;FMTTYPE=image/png:https://arugayoga.com/wp-content/uploads/2024/04/ARUGA-schedule1.png
END:VEVENT
BEGIN:VEVENT
DTSTART;TZID=Asia/Tokyo:20260423T201500
DTEND;TZID=Asia/Tokyo:20260423T211500
DTSTAMP:20260422T002819
CREATED:20240604T222446Z
LAST-MODIFIED:20260328T035950Z
UID:849-1776975300-1776978900@arugayoga.com
SUMMARY:yogaサイレント(運動量少なめ)
DESCRIPTION:運動量★／ヨガポーズ難易度◆\n簡単なハタヨガのポーズをホールドしながら 一つひとつの姿勢は「ありのまま感じている」だけの状態で心の静寂を生み出します／レッスン中に坐法瞑想を行う場合がございます \n\n\n月会費10\,670円(ヨガ・ボディワーククラスは無制限)\n4回チケット：9\,900円(1ヶ月有効/ヨガ・ボディワーククラスは無制限)\nドロップイン(1回利用)：3\,300円／1クラス\nお支払いは現金・クレジットカード \nお申込み
URL:https://arugayoga.com/event/silent-7/
LOCATION:studioARUGA\, 伊那市西箕輪5058
CATEGORIES:yogaサイレント
ATTACH;FMTTYPE=image/png:https://arugayoga.com/wp-content/uploads/2024/07/ARUGA-eventphoto.png
END:VEVENT
BEGIN:VEVENT
DTSTART;TZID=Asia/Tokyo:20260425T091500
DTEND;TZID=Asia/Tokyo:20260425T101500
DTSTAMP:20260422T002819
CREATED:20240721T085607Z
LAST-MODIFIED:20260328T041457Z
UID:1076-1777108500-1777112100@arugayoga.com
SUMMARY:バーニングモビリティ
DESCRIPTION:運動量★★★／難易度◆◆\n「動ける体」の土台づくりができる シンプルな有酸素的ボディワーク／関節可動域(モビリティ)を高めながら脂肪燃焼も叶えます／膝への負担が気になる方、体力に自信のない方や下半身の冷え・硬さが気になる方、激しい運動は苦手だけど体を動かしたい方におすすめのクラス \n\n月会費：10\,670円(ヨガ・ボディワーククラスは無制限)\n4回チケット：9\,900円(1ヶ月有効/ヨガ・ボディワーククラスは無制限)\nドロップイン(1回利用)：3\,300円／1クラス\nお支払いは現金・クレジットカード \nお申込み
URL:https://arugayoga.com/event/flexible-6/
LOCATION:studioARUGA\, 伊那市西箕輪5058
CATEGORIES:バーニングモビリティ
ATTACH;FMTTYPE=image/png:https://arugayoga.com/wp-content/uploads/2024/07/burning-mobility7.png
END:VEVENT
BEGIN:VEVENT
DTSTART;TZID=Asia/Tokyo:20260425T102500
DTEND;TZID=Asia/Tokyo:20260425T112500
DTSTAMP:20260422T002819
CREATED:20240826T165207Z
LAST-MODIFIED:20260328T040136Z
UID:1191-1777112700-1777116300@arugayoga.com
SUMMARY:yogaサイレント(運動量少なめ)
DESCRIPTION:運動量★／ヨガポーズ難易度◆\n簡単なハタヨガのポーズをホールドしながら 一つひとつの姿勢は「ありのまま感じている」だけの状態で心の静寂を生み出します／レッスン中に坐法瞑想を行う場合がございます \n\n\n月会費10\,670円(ヨガ・ボディワーククラスは無制限)\n4回チケット：9\,900円(1ヶ月有効/ヨガ・ボディワーククラスは無制限)\nドロップイン(1回利用)：3\,300円／1クラス\nお支払いは現金・クレジットカード \nお申込み
URL:https://arugayoga.com/event/silent-10/
LOCATION:studioARUGA\, 伊那市西箕輪5058
CATEGORIES:yogaサイレント
ATTACH;FMTTYPE=image/png:https://arugayoga.com/wp-content/uploads/2024/07/ARUGA-eventphoto.png
END:VEVENT
BEGIN:VEVENT
DTSTART;TZID=Asia/Tokyo:20260426T091500
DTEND;TZID=Asia/Tokyo:20260426T101500
DTSTAMP:20260422T002819
CREATED:20240506T135831Z
LAST-MODIFIED:20260328T042009Z
UID:667-1777194900-1777198500@arugayoga.com
SUMMARY:パワーyoga(運動量を増やす)
DESCRIPTION:運動量★★★／ヨガポーズ難易度◆◆\n運動量を増やして 練習後の爽快感を深めます／色々なポーズに出会えます／他のエクササイズでは得られない 心が穏やかで冴え渡る体験を楽しみながら、体力・持久力のある身体にしていきます \n\n月会費：10\,670円(ヨガ・ボディワーククラスは無制限)\n4回チケット：9\,900円(1ヶ月有効/ヨガ・ボディワーククラスは無制限)\nドロップイン(1回利用)：3\,300円／1クラス\nお支払いは現金・クレジットカード \nお申込み
URL:https://arugayoga.com/event/pose6-22/
LOCATION:studioARUGA\, 伊那市西箕輪5058
CATEGORIES:パワーyoga
ATTACH;FMTTYPE=image/png:https://arugayoga.com/wp-content/uploads/2024/04/ARUGA-schedule2.png
END:VEVENT
BEGIN:VEVENT
DTSTART;TZID=Asia/Tokyo:20260426T103000
DTEND;TZID=Asia/Tokyo:20260426T111500
DTSTAMP:20260422T002819
CREATED:20260228T032113Z
LAST-MODIFIED:20260328T042342Z
UID:2300-1777199400-1777202100@arugayoga.com
SUMMARY:マイ・ソールセラピー
DESCRIPTION:カラダに軽さや巡りを起こす時間を\nまずは足湯で足を温めて、ご自身でオイルを使って足裏や下肢を優しくケア(足湯・オイル付) \n＜持ち物＞\nバスタオル \n\n月会費10\,670円(ヨガ・ボディワーククラスは無制限)\n4回チケット：9\,900円(1ヶ月有効/ヨガ・ボディワーククラスは無制限)\nドロップイン(1回利用)：3\,300円\nお支払いは現金・クレジットカード \nお申込み
URL:https://arugayoga.com/event/sole-therapy-2/
LOCATION:studioARUGA\, 伊那市西箕輪5058
CATEGORIES:マイ・ソールセラピー
ATTACH;FMTTYPE=image/png:https://arugayoga.com/wp-content/uploads/2026/01/soul-therapy2.png
END:VEVENT
BEGIN:VEVENT
DTSTART;TZID=Asia/Tokyo:20260430T201500
DTEND;TZID=Asia/Tokyo:20260430T211500
DTSTAMP:20260422T002819
CREATED:20240506T133058Z
LAST-MODIFIED:20260328T040424Z
UID:652-1777580100-1777583700@arugayoga.com
SUMMARY:yogaサイレント(運動量少なめ)
DESCRIPTION:運動量★／ヨガポーズ難易度◆\n簡単なハタヨガのポーズをホールドしながら 一つひとつの姿勢は「ありのまま感じている」だけの状態で心の静寂を生み出します／レッスン中に坐法瞑想を行う場合がございます \n\n\n月会費10\,670円(ヨガ・ボディワーククラスは無制限)\n4回チケット：9\,900円(1ヶ月有効/ヨガ・ボディワーククラスは無制限)\nドロップイン(1回利用)：3\,300円／1クラス\nお支払いは現金・クレジットカード \nお申込み
URL:https://arugayoga.com/event/silent/
LOCATION:studioARUGA\, 伊那市西箕輪5058
CATEGORIES:yogaサイレント
ATTACH;FMTTYPE=image/png:https://arugayoga.com/wp-content/uploads/2024/07/ARUGA-eventphoto.png
END:VEVENT
END:VCALENDAR