BEGIN:VCALENDAR
VERSION:2.0
PRODID:-//スタジオARUGA-在我- - ECPv6.8.0//NONSGML v1.0//EN
CALSCALE:GREGORIAN
METHOD:PUBLISH
X-WR-CALNAME:スタジオARUGA-在我-
X-ORIGINAL-URL:https://arugayoga.com
X-WR-CALDESC:スタジオARUGA-在我- のイベント
REFRESH-INTERVAL;VALUE=DURATION:PT1H
X-Robots-Tag:noindex
X-PUBLISHED-TTL:PT1H
BEGIN:VTIMEZONE
TZID:Asia/Tokyo
BEGIN:STANDARD
TZOFFSETFROM:+0900
TZOFFSETTO:+0900
TZNAME:JST
DTSTART:20250101T000000
END:STANDARD
END:VTIMEZONE
BEGIN:VEVENT
DTSTART;TZID=Asia/Tokyo:20260322T103000
DTEND;TZID=Asia/Tokyo:20260322T111500
DTSTAMP:20260422T045755
CREATED:20260228T032354Z
LAST-MODIFIED:20260228T032452Z
UID:2302-1774175400-1774178100@arugayoga.com
SUMMARY:マイ・ソールセラピー
DESCRIPTION:カラダに軽さや巡りを起こす時間を\nまずは足湯で足を温めて、ご自身でオイルを使って足裏や下肢を優しくケア(足湯・オイル付) \n＜持ち物＞\nバスタオル \n\n月会費10\,670円(ヨガ・ボディワーククラスは無制限)\n4回チケット：9\,900円(1ヶ月有効/ヨガ・ボディワーククラスは無制限)\nドロップイン(1回利用)：3\,300円\nお支払いは現金・クレジットカード \nお申込み
URL:https://arugayoga.com/event/sole-therapy-3/
LOCATION:studioARUGA\, 伊那市西箕輪5058
CATEGORIES:マイ・ソールセラピー
ATTACH;FMTTYPE=image/png:https://arugayoga.com/wp-content/uploads/2026/01/soul-therapy2.png
END:VEVENT
BEGIN:VEVENT
DTSTART;TZID=Asia/Tokyo:20260322T091500
DTEND;TZID=Asia/Tokyo:20260322T101500
DTSTAMP:20260422T045755
CREATED:20240425T045958Z
LAST-MODIFIED:20260228T031705Z
UID:356-1774170900-1774174500@arugayoga.com
SUMMARY:パワーyoga(運動量を増やす)
DESCRIPTION:運動量★★★／ヨガポーズ難易度◆◆\n運動量を増やして 練習後の爽快感を深めます／色々なポーズに出会えます／他のエクササイズでは得られない 心が穏やかで冴え渡る体験を楽しみながら、体力・持久力のある身体にしていきます \n\n月会費10\,670円(ヨガ・ボディワーククラスは無制限)\n4回チケット：9\,900円(1ヶ月有効/ヨガ・ボディワーククラスは無制限)\nドロップイン(1回利用)：3\,300円／1クラス\nお支払いは現金・クレジットカード \nお申込み
URL:https://arugayoga.com/event/energy/
LOCATION:studioARUGA\, 伊那市西箕輪5058
CATEGORIES:バーニングモビリティ,パワーyoga
ATTACH;FMTTYPE=image/png:https://arugayoga.com/wp-content/uploads/2024/04/ARUGA-schedule2.png
END:VEVENT
BEGIN:VEVENT
DTSTART;TZID=Asia/Tokyo:20260321T102500
DTEND;TZID=Asia/Tokyo:20260321T112500
DTSTAMP:20260422T045755
CREATED:20240604T220144Z
LAST-MODIFIED:20260228T024835Z
UID:834-1774088700-1774092300@arugayoga.com
SUMMARY:yogaサイレント(運動量少なめ)
DESCRIPTION:運動量★／ヨガポーズ難易度◆\n簡単なハタヨガのポーズをホールドしながら 一つひとつの姿勢は「ありのまま感じている」だけの状態で心の静寂を生み出します／レッスン中に坐法瞑想を行う場合がございます \n\n\n月会費10\,670円(ヨガ・ボディワーククラスは無制限)\n4回チケット：9\,900円(1ヶ月有効/ヨガ・ボディワーククラスは無制限)\nドロップイン(1回利用)：3\,300円／1クラス\nお支払いは現金・クレジットカード \nお申込み
URL:https://arugayoga.com/event/silent-5/
LOCATION:studioARUGA\, 伊那市西箕輪5058
CATEGORIES:yogaサイレント
ATTACH;FMTTYPE=image/png:https://arugayoga.com/wp-content/uploads/2024/07/ARUGA-eventphoto.png
END:VEVENT
BEGIN:VEVENT
DTSTART;TZID=Asia/Tokyo:20260321T091500
DTEND;TZID=Asia/Tokyo:20260321T101500
DTSTAMP:20260422T045755
CREATED:20240507T043338Z
LAST-MODIFIED:20260228T031157Z
UID:712-1774084500-1774088100@arugayoga.com
SUMMARY:バーニングモビリティ
DESCRIPTION:運動量★★★／難易度◆◆\n「動ける体」の土台づくりができる シンプルな有酸素的ボディワーク／関節可動域(モビリティ)を高めながら脂肪燃焼も叶えます／膝への負担が気になる方、体力に自信のない方や下半身の冷え・硬さが気になる方、激しい運動は苦手だけど体を動かしたい方におすすめのクラス \n\n月会費：10\,670円(ヨガ・ボディワーククラスは無制限)\n4回チケット：9\,900円(1ヶ月有効/ヨガ・ボディワーククラスは無制限)\nドロップイン(1回利用)：3\,300円／1クラス\nお支払いは現金・クレジットカード \nお申込み
URL:https://arugayoga.com/event/flexible6-2/
LOCATION:studioARUGA\, 伊那市西箕輪5058
CATEGORIES:バーニングモビリティ
ATTACH;FMTTYPE=image/png:https://arugayoga.com/wp-content/uploads/2024/07/burning-mobility7.png
END:VEVENT
BEGIN:VEVENT
DTSTART;TZID=Asia/Tokyo:20260315T102500
DTEND;TZID=Asia/Tokyo:20260315T112500
DTSTAMP:20260422T045755
CREATED:20240506T083553Z
LAST-MODIFIED:20260228T024956Z
UID:629-1773570300-1773573900@arugayoga.com
SUMMARY:yogaビギナー(基本のポーズ)
DESCRIPTION:運動量★★／ヨガポーズ難易度◆\nヨガの基本を学びたい方におすすめのレッスン／主なヨガポーズの7割以上を占める「前屈のポーズ」を深めることができます／ヨガの代表的な動きを丁寧に実践してまいります \n\n月会費10\,670円(ヨガ・ボディワーククラスは無制限)\n4回チケット：9\,900円(1ヶ月有効/ヨガ・ボディワーククラスは無制限)\nドロップイン(1回利用)：3\,300円／1クラス\nお支払いは現金・クレジットカード \nお申込み
URL:https://arugayoga.com/event/forward-bend6-3/
LOCATION:studioARUGA\, 伊那市西箕輪5058
CATEGORIES:スローフローyoga
ATTACH;FMTTYPE=image/png:https://arugayoga.com/wp-content/uploads/2024/04/ARUGA-schedule1.png
END:VEVENT
BEGIN:VEVENT
DTSTART;TZID=Asia/Tokyo:20260315T091500
DTEND;TZID=Asia/Tokyo:20260315T101500
DTSTAMP:20260422T045755
CREATED:20240507T043848Z
LAST-MODIFIED:20260228T030556Z
UID:715-1773566100-1773569700@arugayoga.com
SUMMARY:バーニングモビリティ
DESCRIPTION:運動量★★★／難易度◆◆\n寝たままできる有酸素運動「ジョイトレ®」／股関節の柔軟性アップと脂肪燃焼アップ／運動不足の解消と同時に ヨガポーズができる身体作りも実践します／このような方にお勧めです『股関節を柔軟にしたい方』『冷え・むくみ・腰痛改善したい方』『脂肪燃焼はもちろん 美脚・美尻も叶えたい方』など \n\n月会費10\,670円(ヨガ・ボディワーククラスは無制限)\n4回チケット：9\,900円(1ヶ月有効/ヨガ・ボディワーククラスは無制限)\nドロップイン(1回利用)：3\,300円／1クラス\nお支払いは現金・クレジットカード \nお申込み
URL:https://arugayoga.com/event/flexible6-16/
LOCATION:studioARUGA\, 伊那市西箕輪5058
CATEGORIES:バーニングモビリティ
ATTACH;FMTTYPE=image/png:https://arugayoga.com/wp-content/uploads/2024/07/burning-mobility7.png
END:VEVENT
BEGIN:VEVENT
DTSTART;TZID=Asia/Tokyo:20260314T102500
DTEND;TZID=Asia/Tokyo:20260314T112500
DTSTAMP:20260422T045755
CREATED:20240506T134509Z
LAST-MODIFIED:20260228T024756Z
UID:658-1773483900-1773487500@arugayoga.com
SUMMARY:yogaサイレント(運動量少なめ)
DESCRIPTION:運動量★／ヨガポーズ難易度◆\n簡単なハタヨガのポーズをホールドしながら 一つひとつの姿勢は「ありのまま感じている」だけの状態で心の静寂を生み出します／レッスン中に坐法瞑想を行う場合がございます \n\n\n月会費10\,670円(ヨガ・ボディワーククラスは無制限)\n4回チケット：9\,900円(1ヶ月有効/ヨガ・ボディワーククラスは無制限)\nドロップイン(1回利用)：3\,300円／1クラス\nお支払いは現金・クレジットカード \nお申込み
URL:https://arugayoga.com/event/silent-2/
LOCATION:studioARUGA\, 伊那市西箕輪5058
CATEGORIES:yogaサイレント
ATTACH;FMTTYPE=image/png:https://arugayoga.com/wp-content/uploads/2024/07/ARUGA-eventphoto.png
END:VEVENT
BEGIN:VEVENT
DTSTART;TZID=Asia/Tokyo:20260314T091500
DTEND;TZID=Asia/Tokyo:20260314T100000
DTSTAMP:20260422T045755
CREATED:20250506T074502Z
LAST-MODIFIED:20260228T031316Z
UID:1860-1773479700-1773482400@arugayoga.com
SUMMARY:Root
DESCRIPTION:運動量★★／ポーズ難易度◆\nパールシュヴォッターナ・アーサナまで ／ 大地に足を預け 安定と広がりを体感 ／ 意識とともに しっかりと立つ感覚を育てていきます ／ 45分クラス \n\n月会費：10\,670円(ヨガ・ボディワーククラスは無制限)\n4回チケット：9\,900円(1ヶ月有効/ヨガ・ボディワーククラスは無制限)\nドロップイン(1回利用)：2\,970円／1クラス\nお支払いは現金・クレジットカード \nお申込み
URL:https://arugayoga.com/event/root/
LOCATION:studioARUGA\, 伊那市西箕輪5058
CATEGORIES:アーサナトレイル
ATTACH;FMTTYPE=image/png:https://arugayoga.com/wp-content/uploads/2025/05/Root2.png
END:VEVENT
BEGIN:VEVENT
DTSTART;TZID=Asia/Tokyo:20260308T145500
DTEND;TZID=Asia/Tokyo:20260308T155500
DTSTAMP:20260422T045755
CREATED:20240506T135523Z
LAST-MODIFIED:20260228T023653Z
UID:665-1772981700-1772985300@arugayoga.com
SUMMARY:yogaサイレント(運動量少なめ)
DESCRIPTION:運動量★／ヨガポーズ難易度◆\n簡単なハタヨガのポーズをホールドしながら 一つひとつの姿勢は「ありのまま感じている」だけの状態で心の静寂を生み出します／レッスン中に坐法瞑想を行う場合がございます \n\n\n月会費10\,670円(ヨガ・ボディワーククラスは無制限)\n4回チケット：9\,900円(1ヶ月有効/ヨガ・ボディワーククラスは無制限)\nドロップイン(1回利用)：3\,300円／1クラス\nお支払いは現金・クレジットカード \nお申込み
URL:https://arugayoga.com/event/silent-3/
LOCATION:studioARUGA\, 伊那市西箕輪5058
CATEGORIES:yogaサイレント
ATTACH;FMTTYPE=image/png:https://arugayoga.com/wp-content/uploads/2024/07/ARUGA-eventphoto.png
END:VEVENT
BEGIN:VEVENT
DTSTART;TZID=Asia/Tokyo:20260308T134500
DTEND;TZID=Asia/Tokyo:20260308T144500
DTSTAMP:20260422T045755
CREATED:20240604T215800Z
LAST-MODIFIED:20260228T031516Z
UID:831-1772977500-1772981100@arugayoga.com
SUMMARY:パワーyoga(運動量を増やす)
DESCRIPTION:運動量★★★／ヨガ難易度◆◆\n運動量を増やして 練習後の爽快感を深めます／色々なポーズに出会えます／他のエクササイズでは得られない 心が穏やかで冴え渡る体験を楽しみながら、体力・持久力のある身体にしていきます \n\n月会費10\,670円(ヨガ・ボディワーククラスは無制限)\n4回チケット：9\,900円(1ヶ月有効/ヨガ・ボディワーククラスは無制限)\nドロップイン(1回利用)：3\,300円／1クラス\nお支払いは現金・クレジットカード \nお申込み
URL:https://arugayoga.com/event/power-2/
LOCATION:studioARUGA\, 伊那市西箕輪5058
CATEGORIES:パワーyoga
ATTACH;FMTTYPE=image/png:https://arugayoga.com/wp-content/uploads/2024/04/ARUGA-schedule2.png
END:VEVENT
BEGIN:VEVENT
DTSTART;TZID=Asia/Tokyo:20260307T100000
DTEND;TZID=Asia/Tokyo:20260307T110000
DTSTAMP:20260422T045755
CREATED:20240605T001245Z
LAST-MODIFIED:20260228T030520Z
UID:894-1772877600-1772881200@arugayoga.com
SUMMARY:バーニングモビリティ
DESCRIPTION:運動量★★★／難易度◆◆\n寝たままできる有酸素運動「ジョイトレ®」／股関節の柔軟性アップと脂肪燃焼アップ／運動不足の解消と同時に ヨガポーズができる身体作りも実践します／このような方にお勧めです『股関節を柔軟にしたい方』『冷え・むくみ・腰痛改善したい方』『脂肪燃焼はもちろん 美脚・美尻も叶えたい方』など \n\n月会費10\,670円(ヨガ・ボディワーククラスは無制限)\n4回チケット：9\,900円(1ヶ月有効/ヨガ・ボディワーククラスは無制限)\nドロップイン(1回利用)：3\,300円／1クラス\nお支払いは現金・クレジットカード \nお申込み
URL:https://arugayoga.com/event/flexible-3/
LOCATION:studioARUGA\, 伊那市西箕輪5058
CATEGORIES:バーニングモビリティ
ATTACH;FMTTYPE=image/png:https://arugayoga.com/wp-content/uploads/2024/07/burning-mobility7.png
END:VEVENT
BEGIN:VEVENT
DTSTART;TZID=Asia/Tokyo:20260301T145500
DTEND;TZID=Asia/Tokyo:20260301T152500
DTSTAMP:20260422T045755
CREATED:20250506T073554Z
LAST-MODIFIED:20260228T022317Z
UID:1855-1772376900-1772378700@arugayoga.com
SUMMARY:First Journey
DESCRIPTION:運動量★★／ポーズ難易度◆\nウッティッタ・パールシュヴァ・コーナ・アーサナBまで ／ 呼吸に合わせて動く旅のはじまり ／ 30分クラス \n\n月会費：10\,670円(ヨガ・ボディワーククラスは無制限)\n4回チケット：9\,900円(1ヶ月有効/ヨガ・ボディワーククラスは無制限)\nドロップイン(1回利用)：2\,680円／1クラス\nお支払いは現金・クレジットカード \nお申込み
URL:https://arugayoga.com/event/first-journey/
LOCATION:studioARUGA\, 伊那市西箕輪5058
CATEGORIES:アーサナトレイル
ATTACH;FMTTYPE=image/png:https://arugayoga.com/wp-content/uploads/2025/05/FirstJourny2.png
END:VEVENT
BEGIN:VEVENT
DTSTART;TZID=Asia/Tokyo:20260301T134500
DTEND;TZID=Asia/Tokyo:20260301T144500
DTSTAMP:20260422T045755
CREATED:20240721T085349Z
LAST-MODIFIED:20260228T030258Z
UID:1074-1772372700-1772376300@arugayoga.com
SUMMARY:バーニングモビリティ
DESCRIPTION:運動量★★★／難易度◆◆\n寝たままできる有酸素運動「ジョイトレ®」／股関節の柔軟性アップと脂肪燃焼アップ／運動不足の解消と同時に ヨガポーズができる身体作りも実践します／このような方にお勧めです『股関節を柔軟にしたい方』『冷え・むくみ・腰痛改善したい方』『脂肪燃焼はもちろん 美脚・美尻も叶えたい方』など \n\n月会費10\,670円(ヨガ・ボディワーククラスは無制限)\n4回チケット：9\,900円(1ヶ月有効/ヨガ・ボディワーククラスは無制限)\nドロップイン(1回利用)：3\,300円／1クラス\nお支払いは現金・クレジットカード \nお申込み
URL:https://arugayoga.com/event/flexible-5/
LOCATION:studioARUGA\, 伊那市西箕輪5058
CATEGORIES:バーニングモビリティ
ATTACH;FMTTYPE=image/png:https://arugayoga.com/wp-content/uploads/2024/07/burning-mobility7.png
END:VEVENT
BEGIN:VEVENT
DTSTART;TZID=Asia/Tokyo:20251025T100000
DTEND;TZID=Asia/Tokyo:20251025T120000
DTSTAMP:20260422T045755
CREATED:20250926T154427Z
LAST-MODIFIED:20250926T155051Z
UID:2114-1761386400-1761393600@arugayoga.com
SUMMARY:ヨガ✖️オイルケア✖️チャイ
DESCRIPTION:スタジオARUGA在我 秋の特別イベント\nヨガ✖️オイルケア✖️チャイで いつもとは違う特別な体験を \n①ヨガ：軽いヨガで身体を整える\n②オイルケア：足と手のセルフオイルケア\n③ホットタオル：最後はホットタオルでスッキリ\n④チャイ：スパイス香るチャイで余韻を \n\n参加費：5\,500円(月額会員は4\,950円)\nお支払いは現金・クレジットカード \nお申込み
URL:https://arugayoga.com/event/20251025/
CATEGORIES:イベント
ATTACH;FMTTYPE=image/png:https://arugayoga.com/wp-content/uploads/2025/09/event202510255.png
END:VEVENT
BEGIN:VEVENT
DTSTART;TZID=Asia/Tokyo:20251019T111000
DTEND;TZID=Asia/Tokyo:20251019T115000
DTSTAMP:20260422T045755
CREATED:20241126T113359Z
LAST-MODIFIED:20250926T152602Z
UID:1538-1760872200-1760874600@arugayoga.com
SUMMARY:ハッピーステップ
DESCRIPTION:スタジオARUGAでは 定期的に足のプロフェッショナルをお呼びしてフットアライメント講座を開催しております ／ 当クラスは 講座ご参加者向けのウォーキング復習クラスですが、まだご参加経験のない方や、「歩き方」「立ち方」「足」のことで お悩みやご相談があります方もお気軽に参加可能です \n＜時間＞\n1クラス　40分 \n＜会費＞\n月会費10\,670円の方は 会費に含まれております\nドロップイン(1回利用)：1\,980円 \nお申込み
URL:https://arugayoga.com/event/happystep/
LOCATION:studioARUGA\, 伊那市西箕輪5058
CATEGORIES:フットアライメント
ATTACH;FMTTYPE=image/png:https://arugayoga.com/wp-content/uploads/2024/11/ARUGA-happystep③.png
END:VEVENT
END:VCALENDAR