BEGIN:VCALENDAR
VERSION:2.0
PRODID:-//スタジオARUGA-在我- - ECPv6.8.0//NONSGML v1.0//EN
CALSCALE:GREGORIAN
METHOD:PUBLISH
X-WR-CALNAME:スタジオARUGA-在我-
X-ORIGINAL-URL:https://arugayoga.com
X-WR-CALDESC:スタジオARUGA-在我- のイベント
REFRESH-INTERVAL;VALUE=DURATION:PT1H
X-Robots-Tag:noindex
X-PUBLISHED-TTL:PT1H
BEGIN:VTIMEZONE
TZID:Asia/Tokyo
BEGIN:STANDARD
TZOFFSETFROM:+0900
TZOFFSETTO:+0900
TZNAME:JST
DTSTART:20260101T000000
END:STANDARD
END:VTIMEZONE
BEGIN:VEVENT
DTSTART;TZID=Asia/Tokyo:20260404T091500
DTEND;TZID=Asia/Tokyo:20260404T100000
DTSTAMP:20260422T051027
CREATED:20250528T234803Z
LAST-MODIFIED:20260328T035205Z
UID:1914-1775294100-1775296800@arugayoga.com
SUMMARY:Root
DESCRIPTION:運動量★★／ポーズ難易度◆\nパールシュヴォッターナ・アーサナまで ／ 大地に足を預け 安定と広がりを体感 ／ 意識とともに しっかりと立つ感覚を育てていきます ／ 45分クラス \n\n月会費：10\,670円(ヨガ・ボディワーククラスは無制限)\n4回チケット：9\,900円(1ヶ月有効/ヨガ・ボディワーククラスは無制限)\nドロップイン(1回利用)：2\,970円／1クラス\nお支払いは現金・クレジットカード \nお申込み
URL:https://arugayoga.com/event/root-2/
LOCATION:studioARUGA\, 伊那市西箕輪5058
CATEGORIES:アーサナトレイル
ATTACH;FMTTYPE=image/png:https://arugayoga.com/wp-content/uploads/2025/05/Root2.png
END:VEVENT
END:VCALENDAR