BEGIN:VCALENDAR
VERSION:2.0
PRODID:-//スタジオARUGA-在我- - ECPv6.8.0//NONSGML v1.0//EN
CALSCALE:GREGORIAN
METHOD:PUBLISH
X-WR-CALNAME:スタジオARUGA-在我-
X-ORIGINAL-URL:https://arugayoga.com
X-WR-CALDESC:スタジオARUGA-在我- のイベント
REFRESH-INTERVAL;VALUE=DURATION:PT1H
X-Robots-Tag:noindex
X-PUBLISHED-TTL:PT1H
BEGIN:VTIMEZONE
TZID:Asia/Tokyo
BEGIN:STANDARD
TZOFFSETFROM:+0900
TZOFFSETTO:+0900
TZNAME:JST
DTSTART:20260101T000000
END:STANDARD
END:VTIMEZONE
BEGIN:VEVENT
DTSTART;TZID=Asia/Tokyo:20260315T102500
DTEND;TZID=Asia/Tokyo:20260315T112500
DTSTAMP:20260423T072218
CREATED:20240506T083553Z
LAST-MODIFIED:20260228T024956Z
UID:629-1773570300-1773573900@arugayoga.com
SUMMARY:yogaビギナー(基本のポーズ)
DESCRIPTION:運動量★★／ヨガポーズ難易度◆\nヨガの基本を学びたい方におすすめのレッスン／主なヨガポーズの7割以上を占める「前屈のポーズ」を深めることができます／ヨガの代表的な動きを丁寧に実践してまいります \n\n月会費10\,670円(ヨガ・ボディワーククラスは無制限)\n4回チケット：9\,900円(1ヶ月有効/ヨガ・ボディワーククラスは無制限)\nドロップイン(1回利用)：3\,300円／1クラス\nお支払いは現金・クレジットカード \nお申込み
URL:https://arugayoga.com/event/forward-bend6-3/
LOCATION:studioARUGA\, 伊那市西箕輪5058
CATEGORIES:スローフローyoga
ATTACH;FMTTYPE=image/png:https://arugayoga.com/wp-content/uploads/2024/04/ARUGA-schedule1.png
END:VEVENT
BEGIN:VEVENT
DTSTART;TZID=Asia/Tokyo:20260404T101000
DTEND;TZID=Asia/Tokyo:20260404T111000
DTSTAMP:20260423T072218
CREATED:20240506T090400Z
LAST-MODIFIED:20260328T040716Z
UID:637-1775297400-1775301000@arugayoga.com
SUMMARY:スローフローyoga(基本のポーズ)
DESCRIPTION:運動量★★／ヨガポーズ難易度◆\nヨガの基本的なポーズを丁寧に行いながら、体の動きを整えていくクラスです／ポーズを急がず、一つひとつ丁寧に整えながら練習していきます \n\n月会費10\,670円(ヨガ・ボディワーククラスは無制限)\n4回チケット：9\,900円(1ヶ月有効/ヨガ・ボディワーククラスは無制限)\nドロップイン(1回利用)：3\,300円\nお支払いは現金・クレジットカード \nお申込み
URL:https://arugayoga.com/event/forward-bend6-24/
LOCATION:studioARUGA\, 伊那市西箕輪5058
CATEGORIES:スローフローyoga
ATTACH;FMTTYPE=image/png:https://arugayoga.com/wp-content/uploads/2024/04/ARUGA-schedule1.png
END:VEVENT
BEGIN:VEVENT
DTSTART;TZID=Asia/Tokyo:20260419T102500
DTEND;TZID=Asia/Tokyo:20260419T112500
DTSTAMP:20260423T072218
CREATED:20240506T085740Z
LAST-MODIFIED:20260328T040924Z
UID:631-1776594300-1776597900@arugayoga.com
SUMMARY:スローフローyoga(基本のポーズ)
DESCRIPTION:運動量★★／ヨガポーズ難易度◆\nヨガの基本的なポーズを丁寧に行いながら、体の動きを整えていくクラスです／ポーズを急がず、一つひとつ丁寧に整えながら練習していきます \n\n月会費10\,670円(ヨガ・ボディワーククラスは無制限)\n4回チケット：9\,900円(1ヶ月有効/ヨガ・ボディワーククラスは無制限)\nドロップイン(1回利用)：3\,300円\nお支払いは現金・クレジットカード \nお申込み
URL:https://arugayoga.com/event/forward-bend6-10/
LOCATION:studioARUGA\, 伊那市西箕輪5058
CATEGORIES:スローフローyoga
ATTACH;FMTTYPE=image/png:https://arugayoga.com/wp-content/uploads/2024/04/ARUGA-schedule1.png
END:VEVENT
END:VCALENDAR