BEGIN:VCALENDAR
VERSION:2.0
PRODID:-//スタジオARUGA-在我- - ECPv6.8.0//NONSGML v1.0//EN
CALSCALE:GREGORIAN
METHOD:PUBLISH
X-WR-CALNAME:スタジオARUGA-在我-
X-ORIGINAL-URL:https://arugayoga.com
X-WR-CALDESC:スタジオARUGA-在我- のイベント
REFRESH-INTERVAL;VALUE=DURATION:PT1H
X-Robots-Tag:noindex
X-PUBLISHED-TTL:PT1H
BEGIN:VTIMEZONE
TZID:Asia/Tokyo
BEGIN:STANDARD
TZOFFSETFROM:+0900
TZOFFSETTO:+0900
TZNAME:JST
DTSTART:20250101T000000
END:STANDARD
END:VTIMEZONE
BEGIN:VEVENT
DTSTART;TZID=Asia/Tokyo:20251019T111000
DTEND;TZID=Asia/Tokyo:20251019T115000
DTSTAMP:20260422T114113
CREATED:20241126T113359Z
LAST-MODIFIED:20250926T152602Z
UID:1538-1760872200-1760874600@arugayoga.com
SUMMARY:ハッピーステップ
DESCRIPTION:スタジオARUGAでは 定期的に足のプロフェッショナルをお呼びしてフットアライメント講座を開催しております ／ 当クラスは 講座ご参加者向けのウォーキング復習クラスですが、まだご参加経験のない方や、「歩き方」「立ち方」「足」のことで お悩みやご相談があります方もお気軽に参加可能です \n＜時間＞\n1クラス　40分 \n＜会費＞\n月会費10\,670円の方は 会費に含まれております\nドロップイン(1回利用)：1\,980円 \nお申込み
URL:https://arugayoga.com/event/happystep/
LOCATION:studioARUGA\, 伊那市西箕輪5058
CATEGORIES:フットアライメント
ATTACH;FMTTYPE=image/png:https://arugayoga.com/wp-content/uploads/2024/11/ARUGA-happystep③.png
END:VEVENT
END:VCALENDAR